BEGIN:VCALENDAR
PRODID:-//eluceo/ical//2.0/EN
VERSION:2.0
CALSCALE:GREGORIAN
BEGIN:VEVENT
UID:416086af914dc56bb31bf9b1cc6e1874
DTSTAMP:20260420T131618Z
SUMMARY:Vår utbytesstudent om sig själv och Brasilien
DESCRIPTION:
URL:https://sandviken.rotary2335.se/sv/agenda/show/18808
DTSTART;TZID=Europe/Zurich:20070914T121500
DTEND;TZID=Europe/Zurich:20070914T121500
LOCATION:Bruksmässen Stationsg 14 81133 Sandviken 
CATEGORIES:Rotary
END:VEVENT
BEGIN:VTIMEZONE
TZID:Europe/Zurich
BEGIN:DAYLIGHT
DTSTART:20070914T121500
TZNAME:CEST
TZOFFSETTO:+0200
TZOFFSETFROM:+0200
END:DAYLIGHT
END:VTIMEZONE
END:VCALENDAR
