BEGIN:VCALENDAR
PRODID:-//eluceo/ical//2.0/EN
VERSION:2.0
CALSCALE:GREGORIAN
BEGIN:VEVENT
UID:92375a253bcb1260fc19e1f75397cbc1
DTSTAMP:20260422T172655Z
SUMMARY:Från linje till projekt
DESCRIPTION:
URL:https://sandviken.rotary2335.se/sv/agenda/show/18546
DTSTART;TZID=Europe/Zurich:20010420T121500
DTEND;TZID=Europe/Zurich:20010420T131500
LOCATION:Bruksmässen
CATEGORIES:Rotary
END:VEVENT
BEGIN:VTIMEZONE
TZID:Europe/Zurich
BEGIN:DAYLIGHT
DTSTART:20010420T121500
TZNAME:CEST
TZOFFSETTO:+0200
TZOFFSETFROM:+0200
END:DAYLIGHT
END:VTIMEZONE
END:VCALENDAR
